BEGIN:VCALENDAR
VERSION:2.0
PRODID:-//Our Streets - ECPv6.15.0.1//NONSGML v1.0//EN
CALSCALE:GREGORIAN
METHOD:PUBLISH
X-WR-CALNAME:Our Streets
X-ORIGINAL-URL:https://www.ourstreetsmn.org
X-WR-CALDESC:Events for Our Streets
REFRESH-INTERVAL;VALUE=DURATION:PT1H
X-Robots-Tag:noindex
X-PUBLISHED-TTL:PT1H
BEGIN:VTIMEZONE
TZID:America/Chicago
BEGIN:DAYLIGHT
TZOFFSETFROM:-0600
TZOFFSETTO:-0500
TZNAME:CDT
DTSTART:20250309T080000
END:DAYLIGHT
BEGIN:STANDARD
TZOFFSETFROM:-0500
TZOFFSETTO:-0600
TZNAME:CST
DTSTART:20251102T070000
END:STANDARD
END:VTIMEZONE
BEGIN:VEVENT
DTSTART;TZID=America/Chicago:20250424T190000
DTEND;TZID=America/Chicago:20250424T210000
DTSTAMP:20260424T104048
CREATED:20250114T165217Z
LAST-MODIFIED:20250410T211016Z
UID:4160-1745521200-1745528400@www.ourstreetsmn.org
SUMMARY:The War on Cars LIVE
DESCRIPTION:SOLD OUT\n\n\n\nOur Streets presents a special live show of The War on Cars podcast with hosts Doug Gordon and Sarah Goodyear. The War on Cars discusses the latest developments in the worldwide fight against car culture. This live episode recording will focus on issues specific to the Twin Cities\, with special guests involved in the work. Don’t miss the opportunity to hear the local angle on reducing car dependency and transforming our streets. \n\n\n\n\n\n\n\nThe War On Cars Live event is made possible with sponsorships from Cyclehoop and Oonee.
URL:https://www.ourstreetsmn.org/event/the-war-on-cars-live/
LOCATION:The Cedar Cultural Center\, 416 Cedar Avenue South\, Minneapolis\, Minnesota\, 55454\, United States
ATTACH;FMTTYPE=image/webp:https://www.ourstreetsmn.org/wp-content/uploads/2025/01/https___cdn.evbuc_.com_images_925526163_2106608582803_1_original-1-1.webp
END:VEVENT
END:VCALENDAR